BEGIN:VCALENDAR
VERSION:2.0
PRODID:icalendar-ruby
CALSCALE:GREGORIAN
METHOD:PUBLISH
BEGIN:VEVENT
DTSTAMP:20260423T071013Z
UID:37-235129@stlukewinnipeg.ca
DTSTART:20260626T150000Z
DTEND:20260626T160000Z
CLASS:PUBLIC
CREATED:20260418T150950
DESCRIPTION:
LAST-MODIFIED:20260418T150950
LOCATION:
SUMMARY:Lectionary Bible Study
URL;VALUE=URI:https://www.stlukewinnipeg.ca/events/lectionary-bible-study/2
 026-06-26
END:VEVENT
END:VCALENDAR
