BEGIN:VCALENDAR
VERSION:2.0
PRODID:icalendar-ruby
CALSCALE:GREGORIAN
METHOD:PUBLISH
BEGIN:VEVENT
DTSTAMP:20260423T001657Z
UID:37-235124@stlukewinnipeg.ca
DTSTART:20260522T150000Z
DTEND:20260522T160000Z
CLASS:PUBLIC
CREATED:20260418T150950
DESCRIPTION:
LAST-MODIFIED:20260418T150950
LOCATION:
SUMMARY:Lectionary Bible Study
URL;VALUE=URI:https://www.stlukewinnipeg.ca/events/lectionary-bible-study/2
 026-05-22
END:VEVENT
END:VCALENDAR
