BEGIN:VCALENDAR
VERSION:2.0
PRODID:icalendar-ruby
CALSCALE:GREGORIAN
METHOD:PUBLISH
BEGIN:VEVENT
DTSTAMP:20260422T230147Z
UID:37-235123@stlukewinnipeg.ca
DTSTART:20260515T150000Z
DTEND:20260515T160000Z
CLASS:PUBLIC
CREATED:20260418T150950
DESCRIPTION:
LAST-MODIFIED:20260418T150950
LOCATION:
SUMMARY:Lectionary Bible Study
URL;VALUE=URI:https://www.stlukewinnipeg.ca/events/lectionary-bible-study/2
 026-05-15
END:VEVENT
END:VCALENDAR
