BEGIN:VCALENDAR
VERSION:2.0
PRODID:icalendar-ruby
CALSCALE:GREGORIAN
METHOD:PUBLISH
BEGIN:VEVENT
DTSTAMP:20260422T181922Z
UID:37-235120@stlukewinnipeg.ca
DTSTART:20260424T150000Z
DTEND:20260424T160000Z
CLASS:PUBLIC
CREATED:20260418T150950
DESCRIPTION:
LAST-MODIFIED:20260418T150950
LOCATION:
SUMMARY:Lectionary Bible Study
URL;VALUE=URI:https://www.stlukewinnipeg.ca/events/lectionary-bible-study/2
 026-04-24
END:VEVENT
END:VCALENDAR
